BEGIN:VCALENDAR
VERSION:2.0
PRODID:-//jEvents 2.0 for Joomla//EN
CALSCALE:GREGORIAN
METHOD:PUBLISH
BEGIN:VTIMEZONE
TZID:Europe/Stockholm
BEGIN:STANDARD
DTSTART:20231029T020000
RDATE:20240331T030000
TZOFFSETFROM:+0200
TZOFFSETTO:+0100
TZNAME:Europe/Stockholm CET
END:STANDARD
BEGIN:STANDARD
DTSTART:20241027T020000
RDATE:20250330T030000
TZOFFSETFROM:+0200
TZOFFSETTO:+0100
TZNAME:Europe/Stockholm CET
END:STANDARD
BEGIN:STANDARD
DTSTART:20251026T020000
RDATE:20260329T030000
TZOFFSETFROM:+0200
TZOFFSETTO:+0100
TZNAME:Europe/Stockholm CET
END:STANDARD
BEGIN:STANDARD
DTSTART:20261025T020000
RDATE:20270328T030000
TZOFFSETFROM:+0200
TZOFFSETTO:+0100
TZNAME:Europe/Stockholm CET
END:STANDARD
BEGIN:STANDARD
DTSTART:20271031T020000
RDATE:20280326T030000
TZOFFSETFROM:+0200
TZOFFSETTO:+0100
TZNAME:Europe/Stockholm CET
END:STANDARD
BEGIN:STANDARD
DTSTART:20281029T020000
RDATE:20290325T030000
TZOFFSETFROM:+0200
TZOFFSETTO:+0100
TZNAME:Europe/Stockholm CET
END:STANDARD
BEGIN:STANDARD
DTSTART:20291028T020000
RDATE:20300331T030000
TZOFFSETFROM:+0200
TZOFFSETTO:+0100
TZNAME:Europe/Stockholm CET
END:STANDARD
BEGIN:STANDARD
DTSTART:20301027T020000
RDATE:20310330T030000
TZOFFSETFROM:+0200
TZOFFSETTO:+0100
TZNAME:Europe/Stockholm CET
END:STANDARD
BEGIN:DAYLIGHT
DTSTART:20230529T190000
RDATE:20231029T020000
TZOFFSETFROM:+0100
TZOFFSETTO:+0200
TZNAME:Europe/Stockholm CEST
END:DAYLIGHT
BEGIN:DAYLIGHT
DTSTART:20240331T030000
RDATE:20241027T020000
TZOFFSETFROM:+0100
TZOFFSETTO:+0200
TZNAME:Europe/Stockholm CEST
END:DAYLIGHT
BEGIN:DAYLIGHT
DTSTART:20250330T030000
RDATE:20251026T020000
TZOFFSETFROM:+0100
TZOFFSETTO:+0200
TZNAME:Europe/Stockholm CEST
END:DAYLIGHT
BEGIN:DAYLIGHT
DTSTART:20260329T030000
RDATE:20261025T020000
TZOFFSETFROM:+0100
TZOFFSETTO:+0200
TZNAME:Europe/Stockholm CEST
END:DAYLIGHT
BEGIN:DAYLIGHT
DTSTART:20270328T030000
RDATE:20271031T020000
TZOFFSETFROM:+0100
TZOFFSETTO:+0200
TZNAME:Europe/Stockholm CEST
END:DAYLIGHT
BEGIN:DAYLIGHT
DTSTART:20280326T030000
RDATE:20281029T020000
TZOFFSETFROM:+0100
TZOFFSETTO:+0200
TZNAME:Europe/Stockholm CEST
END:DAYLIGHT
BEGIN:DAYLIGHT
DTSTART:20290325T030000
RDATE:20291028T020000
TZOFFSETFROM:+0100
TZOFFSETTO:+0200
TZNAME:Europe/Stockholm CEST
END:DAYLIGHT
BEGIN:DAYLIGHT
DTSTART:20300331T030000
RDATE:20301027T020000
TZOFFSETFROM:+0100
TZOFFSETTO:+0200
TZNAME:Europe/Stockholm CEST
END:DAYLIGHT
END:VTIMEZONE
BEGIN:VEVENT
UID:eb23abc2f18ce5deb127397ba95a7b3f
CATEGORIES:VIF
CREATED:20240515T225559
SUMMARY:Extra medlemsmöte VIF
GEO:11.85075951;57.67098999
LOCATION:Långedrags Segelsällskap - Solhöjdsgatan 16\, Västra Frölunda\, \, 426 76\,
  Sweden
URL;VALUE=URI:https://www.seglaif.se/kalender/icalrepeat.detail/2024/05/29/288/-/extra-me
 dlemsmoete-vif-geo-11-85075951-57-67098999?tmpl=component
DESCRIPTION:Kära seglarvänner!Välkommen till ett extra medlemsmöte för godkännande av r
 eviderade stadgar för VIF och för information om kommande aktiviteter.Tid: 
 onsdag 24-05-29  kl.19.00. Plats: Digitalt (länk skickas ut inom kort) samt
  på Långedrags Segelsällskapets klubbhus, Solhöjdsgatan 16, Västra Frölunda
 .Dagordning:Fråga om mötets stadgeenliga utlysande.Val av a) ordförande, b)
  sekreterare för mötet.Val av två justeringsmän att jämte ordföranden juste
 ra protokollet.Godkännande av reviderade stadgar för VIF (se bilagan)Vid år
 smötet 2024-03-26 antogs ett förslag till nya stadgar för VIF för första gå
 ngen. Enligt stadgarna skall sådant förslag godkännas på två efter varandra
  följande möten, varav det ena är ordinarie årsmöte.Information om VIF:s ko
 mmande aktiviteter: Eskadersegling och Trimgenomgång på SMMötets avslutande
 . Reviderade stadgarSe bilagan.EskaderseglingNu närmar sig sommaren och vi 
 i VIF planerar att segla en Eskader i sommar. Vi seglar tillsammans till ge
 mensamt mål och på kvällen/kvällarna äter vi och pratar vi segling så länge
  vi orkar.Skicka sms till Katarina Frithiofsson 0709-528661 om ni är intres
 serade.Tid och destination kommer vi att diskutera på Extramötet 29/5.Trimg
 enomgång på SMI samband med SM i Lysekil, veckan efter midsommar, kommer VI
 F att erbjuda en trimgenomgång för alla SM deltagare (speciellt nya) och me
 dlemmar som är intresserade.Tiden blir på onsdagkväll efter Tune-up racet. 
  This event was imported from: https://www.seglaif.se/kalender/icalrepeat.d
 etail/2024/05/29/288/-/extra-medlemsmoete-vif-geo-11-85075951-57-67098999?t
 mpl=component
X-ALT-DESC;FMTTYPE=text/html:<div class="">Kära seglarvänner!</div><div class=""><br class="" /></div><d
 iv class="">Välkommen till ett&nbsp;<b class="">extra medlemsmöte</b>&nbsp;
 för godkännande av reviderade stadgar för VIF och för information om komman
 de aktiviteter.</div><div class=""><br class="" /></div><div class="">Tid: 
 onsdag 24-05-29 &nbsp;kl.19.00.<span class="Apple-tab-span"> </span></div><
 div class=""><br class="" /></div><div class="">Plats: Digitalt (länk skick
 as ut inom kort) samt på Långedrags Segelsällskapets klubbhus, Solhöjdsgata
 n 16, Västra Frölunda.</div><div class=""><br class="" /></div><div class="
 ">Dagordning:<br class="" /><div class=""><ol class=""><li class="">Fråga o
 m mötets stadgeenliga utlysande.</li><li class="">Val av a) ordförande, b) 
 sekreterare för mötet.</li><li class="">Val av två justeringsmän att jämte 
 ordföranden justera protokollet.</li><li class="">Godkännande av reviderade
  stadgar för VIF (se bilagan)<ul class=""><li class="">Vid årsmötet 2024-03
 -26 antogs ett förslag till nya stadgar för VIF för första gången.&nbsp;</l
 i><li class="">Enligt stadgarna skall sådant förslag godkännas på två efter
  varandra följande möten, varav det ena är ordinarie årsmöte.</li></ul></li
 ><li class="">Information om VIF:s kommande aktiviteter: Eskadersegling och
  Trimgenomgång på SM</li><li class="">Mötets avslutande.</li></ol></div></d
 iv><div class=""><b class="">&nbsp;</b></div><div class=""><b class="">Revi
 derade stadgar</b></div><div class="">Se bilagan.</div><div class=""><br cl
 ass="" /></div><div class=""><b class="">Eskadersegling</b></div><div class
 ="">Nu närmar sig sommaren och vi i VIF planerar att segla en Eskader i som
 mar.&nbsp;<br class="" />Vi seglar tillsammans till gemensamt mål och på kv
 ällen/kvällarna äter vi och pratar vi segling så länge vi orkar.<br class="
 " />Skicka sms till Katarina Frithiofsson 0709-528661 om ni är intresserade
 .<br class="" />Tid och destination kommer vi att diskutera på Extramötet 2
 9/5.<br class="" /><br class="" /></div><div class=""><br class="" /></div>
 <div class=""><b class="">Trimgenomgång på SM</b></div><div class="">I samb
 and med SM i Lysekil, veckan efter midsommar, kommer VIF att erbjuda en tri
 mgenomgång för alla SM deltagare (speciellt nya) och medlemmar som är intre
 sserade.</div><div class="">Tiden blir på onsdagkväll efter Tune-up racet.&
 nbsp;</div> <a href="https://www.seglaif.se/kalender/icalrepeat.detail/2024
 /05/29/288/-/extra-medlemsmoete-vif-geo-11-85075951-57-67098999?tmpl=compon
 ent">This event was imported from: https://www.seglaif.se/kalender/icalrepe
 at.detail/2024/05/29/288/-/extra-medlemsmoete-vif-geo-11-85075951-57-670989
 99?tmpl=component</a>CONTACT:Joop Somhorst
DTSTAMP:20260424T074718
DTSTART;TZID=Europe/Stockholm:20240529T190000
DTEND;TZID=Europe/Stockholm:20240529T203000
SEQUENCE:0
TRANSP:OPAQUE
END:VEVENT
END:VCALENDAR